BEGIN:VCALENDAR
VERSION:2.0
PRODID:-//HRJA - ECPv6.15.16.1//NONSGML v1.0//EN
CALSCALE:GREGORIAN
METHOD:PUBLISH
X-WR-CALNAME:HRJA
X-ORIGINAL-URL:https://hrja.org/wp
X-WR-CALDESC:Events for HRJA
REFRESH-INTERVAL;VALUE=DURATION:PT1H
X-Robots-Tag:noindex
X-PUBLISHED-TTL:PT1H
BEGIN:VTIMEZONE
TZID:America/New_York
BEGIN:DAYLIGHT
TZOFFSETFROM:-0500
TZOFFSETTO:-0400
TZNAME:EDT
DTSTART:20230312T070000
END:DAYLIGHT
BEGIN:STANDARD
TZOFFSETFROM:-0400
TZOFFSETTO:-0500
TZNAME:EST
DTSTART:20231105T060000
END:STANDARD
BEGIN:DAYLIGHT
TZOFFSETFROM:-0500
TZOFFSETTO:-0400
TZNAME:EDT
DTSTART:20240310T070000
END:DAYLIGHT
BEGIN:STANDARD
TZOFFSETFROM:-0400
TZOFFSETTO:-0500
TZNAME:EST
DTSTART:20241103T060000
END:STANDARD
BEGIN:DAYLIGHT
TZOFFSETFROM:-0500
TZOFFSETTO:-0400
TZNAME:EDT
DTSTART:20250309T070000
END:DAYLIGHT
BEGIN:STANDARD
TZOFFSETFROM:-0400
TZOFFSETTO:-0500
TZNAME:EST
DTSTART:20251102T060000
END:STANDARD
END:VTIMEZONE
BEGIN:VEVENT
DTSTART;TZID=America/New_York:20241215T080000
DTEND;TZID=America/New_York:20241215T170000
DTSTAMP:20260424T115047
CREATED:20240113T150332Z
LAST-MODIFIED:20240113T150332Z
UID:4597-1734249600-1734282000@hrja.org
SUMMARY:BFR Ride
DESCRIPTION:Ben Franklin Range events are run by Stiller Motorsports.  Posted here as an FYI.  We will not be attending all of the BFR events as a club.  Look for more details on which events we will be attending as a club
URL:https://hrja.org/wp/event/bfr-ride-6/
LOCATION:Ben Franklin Range\, 1130 Ridge Rd\, Templeton\, PA\, 16259\, United States
END:VEVENT
BEGIN:VEVENT
DTSTART;TZID=America/New_York:20241214T170000
DTEND;TZID=America/New_York:20241214T220000
DTSTAMP:20260424T115047
CREATED:20240110T130244Z
LAST-MODIFIED:20240110T130244Z
UID:4568-1734195600-1734213600@hrja.org
SUMMARY:Club Christmas Party
DESCRIPTION:More details to be posted when we get closer to the event
URL:https://hrja.org/wp/event/club-christmas-party/
LOCATION:Cranberry Elks Lodge 2249\, 20720 US-19\, Cranberry Township\, PA\, 16066
END:VEVENT
BEGIN:VEVENT
DTSTART;TZID=America/New_York:20241208T120000
DTEND;TZID=America/New_York:20241208T170000
DTSTAMP:20260424T115047
CREATED:20240110T130130Z
LAST-MODIFIED:20240110T130130Z
UID:4566-1733659200-1733677200@hrja.org
SUMMARY:Christmas Wrapping Party
DESCRIPTION:More details to be posted when we get closer to the event
URL:https://hrja.org/wp/event/christmas-wrapping-party-2/
END:VEVENT
BEGIN:VEVENT
DTSTART;TZID=America/New_York:20241201T120000
DTEND;TZID=America/New_York:20241201T140000
DTSTAMP:20260424T115047
CREATED:20240110T130048Z
LAST-MODIFIED:20240110T130048Z
UID:4564-1733054400-1733061600@hrja.org
SUMMARY:Christmas Shopping
DESCRIPTION:More details to be posted when we get closer to the event
URL:https://hrja.org/wp/event/christmas-shopping/
END:VEVENT
BEGIN:VEVENT
DTSTART;TZID=America/New_York:20241124T080000
DTEND;TZID=America/New_York:20241124T170000
DTSTAMP:20260424T115047
CREATED:20240113T150300Z
LAST-MODIFIED:20240113T150300Z
UID:4595-1732435200-1732467600@hrja.org
SUMMARY:BFR Ride
DESCRIPTION:Ben Franklin Range events are run by Stiller Motorsports.  Posted here as an FYI.  We will not be attending all of the BFR events as a club.  Look for more details on which events we will be attending as a club
URL:https://hrja.org/wp/event/bfr-ride-5/
LOCATION:Ben Franklin Range\, 1130 Ridge Rd\, Templeton\, PA\, 16259\, United States
END:VEVENT
BEGIN:VEVENT
DTSTART;TZID=America/New_York:20241103T150000
DTEND;TZID=America/New_York:20241103T183000
DTSTAMP:20260424T115047
CREATED:20240110T124317Z
LAST-MODIFIED:20240110T124317Z
UID:4545-1730646000-1730658600@hrja.org
SUMMARY:Membership Meeting
DESCRIPTION:Arrive anytime after 3 PM. Meeting in the Educational building attached to and behind the main Church Building. \nThe meeting will start at the regular time 4:30
URL:https://hrja.org/wp/event/membership-meeting-11/
LOCATION:St. John’s Burry’s Church\, 1835 Rt. 68\, Rochester\, PA\, 15074\, United States
END:VEVENT
BEGIN:VEVENT
DTSTART;TZID=America/New_York:20241026T080000
DTEND;TZID=America/New_York:20241027T170000
DTSTAMP:20260424T115047
CREATED:20240110T125939Z
LAST-MODIFIED:20240110T125939Z
UID:4561-1729929600-1730048400@hrja.org
SUMMARY:TENTATIVE: AOAA Trip
DESCRIPTION:More details to follow as we get closer to the event
URL:https://hrja.org/wp/event/tentative-aoaa-trip/
LOCATION:AOAA\, 4100 State Route 125\, Coal Township\, PA\, 17866\, United States
END:VEVENT
BEGIN:VEVENT
DTSTART;TZID=America/New_York:20241020T080000
DTEND;TZID=America/New_York:20241020T170000
DTSTAMP:20260424T115047
CREATED:20240113T150220Z
LAST-MODIFIED:20240113T150220Z
UID:4593-1729411200-1729443600@hrja.org
SUMMARY:BFR Ride
DESCRIPTION:Ben Franklin Range events are run by Stiller Motorsports.  Posted here as an FYI.  We will not be attending all of the BFR events as a club.  Look for more details on which events we will be attending as a club
URL:https://hrja.org/wp/event/bfr-ride-4/
LOCATION:Ben Franklin Range\, 1130 Ridge Rd\, Templeton\, PA\, 16259\, United States
END:VEVENT
BEGIN:VEVENT
DTSTART;TZID=America/New_York:20241011T080000
DTEND;TZID=America/New_York:20241013T170000
DTSTAMP:20260424T115047
CREATED:20240110T125649Z
LAST-MODIFIED:20240110T125649Z
UID:4559-1728633600-1728838800@hrja.org
SUMMARY:Bantam TrailFest
DESCRIPTION:
URL:https://hrja.org/wp/event/bantam-trailfest/
END:VEVENT
BEGIN:VEVENT
DTSTART;TZID=America/New_York:20240921T080000
DTEND;TZID=America/New_York:20240921T170000
DTSTAMP:20260424T115047
CREATED:20240113T150119Z
LAST-MODIFIED:20240113T150119Z
UID:4591-1726905600-1726938000@hrja.org
SUMMARY:Trail ride at the Harmony PA property
DESCRIPTION:Details to be sent via email and posted to the Facebook group
URL:https://hrja.org/wp/event/trail-ride-at-the-harmony-pa-property/
END:VEVENT
BEGIN:VEVENT
DTSTART;TZID=America/New_York:20240908T150000
DTEND;TZID=America/New_York:20240908T183000
DTSTAMP:20260424T115047
CREATED:20240110T124241Z
LAST-MODIFIED:20240110T124241Z
UID:4543-1725807600-1725820200@hrja.org
SUMMARY:Membership Meeting
DESCRIPTION:Arrive anytime after 3 PM. Meeting in the Educational building attached to and behind the main Church Building. \nThe meeting will start at the regular time 4:30
URL:https://hrja.org/wp/event/membership-meeting-10/
LOCATION:St. John’s Burry’s Church\, 1835 Rt. 68\, Rochester\, PA\, 15074\, United States
END:VEVENT
BEGIN:VEVENT
DTSTART;TZID=America/New_York:20240830T080000
DTEND;TZID=America/New_York:20240901T170000
DTSTAMP:20260424T115047
CREATED:20240110T125611Z
LAST-MODIFIED:20240110T125611Z
UID:4557-1725004800-1725210000@hrja.org
SUMMARY:Greene County Rally
DESCRIPTION:Once again\, we will do our largest event of the season…The Greene County Rally.  More details to come.  
URL:https://hrja.org/wp/event/greene-county-rally-2/
END:VEVENT
BEGIN:VEVENT
DTSTART;TZID=America/New_York:20240828T120000
DTEND;TZID=America/New_York:20240828T210000
DTSTAMP:20260424T115047
CREATED:20240113T150020Z
LAST-MODIFIED:20240113T150020Z
UID:4589-1724846400-1724878800@hrja.org
SUMMARY:Big Knob Fair concession stand fundraiser
DESCRIPTION:Details to come closer to the event 
URL:https://hrja.org/wp/event/big-knob-fair-concession-stand-fundraiser/
END:VEVENT
BEGIN:VEVENT
DTSTART;TZID=America/New_York:20240803T080000
DTEND;TZID=America/New_York:20240804T170000
DTSTAMP:20260424T115047
CREATED:20240113T145917Z
LAST-MODIFIED:20240113T145917Z
UID:4587-1722672000-1722790800@hrja.org
SUMMARY:Moraine State Park Regatta Car Cruise
DESCRIPTION:The club will likely have a booth one of the days at the car cruise
URL:https://hrja.org/wp/event/moraine-state-park-regatta-car-cruise/
END:VEVENT
BEGIN:VEVENT
DTSTART;TZID=America/New_York:20240712T080000
DTEND;TZID=America/New_York:20240714T170000
DTSTAMP:20260424T115047
CREATED:20240110T125429Z
LAST-MODIFIED:20240110T125429Z
UID:4555-1720771200-1720976400@hrja.org
SUMMARY:TENTATIVE: Petersburg WV Trip
DESCRIPTION:More details to be posted as we get closer to the event
URL:https://hrja.org/wp/event/tentative-petersburg-wv-trip/
END:VEVENT
BEGIN:VEVENT
DTSTART;TZID=America/New_York:20240707T150000
DTEND;TZID=America/New_York:20240707T183000
DTSTAMP:20260424T115047
CREATED:20240110T124202Z
LAST-MODIFIED:20240110T124202Z
UID:4541-1720364400-1720377000@hrja.org
SUMMARY:Membership Meeting
DESCRIPTION:Arrive anytime after 3 PM. Meeting in the Educational building attached to and behind the main Church Building. \nThe meeting will start at the regular time 4:30
URL:https://hrja.org/wp/event/membership-meeting-9/
LOCATION:St. John’s Burry’s Church\, 1835 Rt. 68\, Rochester\, PA\, 15074\, United States
END:VEVENT
BEGIN:VEVENT
DTSTART;TZID=America/New_York:20240704T080000
DTEND;TZID=America/New_York:20240704T170000
DTSTAMP:20260424T115047
CREATED:20240113T150504Z
LAST-MODIFIED:20240113T154524Z
UID:4599-1720080000-1720112400@hrja.org
SUMMARY:Zelienople Parade and trail ride at the Harmony PA property
DESCRIPTION:Details to be sent out via email and posted to the Facebook page
URL:https://hrja.org/wp/event/selfie-pole-parade-and-trail-ride-at-the-harmony-pa-property/
END:VEVENT
BEGIN:VEVENT
DTSTART;TZID=America/New_York:20240629T080000
DTEND;TZID=America/New_York:20240629T170000
DTSTAMP:20260424T115047
CREATED:20240113T145751Z
LAST-MODIFIED:20240113T145751Z
UID:4585-1719648000-1719680400@hrja.org
SUMMARY:Trail ride at the Aleppo PA property
DESCRIPTION:Details to be sent via email and posted on the Facebook group
URL:https://hrja.org/wp/event/trail-ride-at-the-aleppo-pa-property/
END:VEVENT
BEGIN:VEVENT
DTSTART;TZID=America/New_York:20240607T080000
DTEND;TZID=America/New_York:20240609T170000
DTSTAMP:20260424T115047
CREATED:20240110T125122Z
LAST-MODIFIED:20240110T125122Z
UID:4553-1717747200-1717952400@hrja.org
SUMMARY:Bantam Jeep Festival
DESCRIPTION:
URL:https://hrja.org/wp/event/bantam-jeep-festival-2/
END:VEVENT
BEGIN:VEVENT
DTSTART;TZID=America/New_York:20240525T080000
DTEND;TZID=America/New_York:20240525T170000
DTSTAMP:20260424T115047
CREATED:20240113T145659Z
LAST-MODIFIED:20240113T145659Z
UID:4583-1716624000-1716656400@hrja.org
SUMMARY:Trail ride at Bobtown PA property
DESCRIPTION:Details to be sent out via email and posted to the Facebook group
URL:https://hrja.org/wp/event/trail-ride-at-bobtown-pa-property/
END:VEVENT
BEGIN:VEVENT
DTSTART;TZID=America/New_York:20240503T080000
DTEND;TZID=America/New_York:20240505T170000
DTSTAMP:20260424T115047
CREATED:20240110T125022Z
LAST-MODIFIED:20240208T170824Z
UID:4551-1714723200-1714928400@hrja.org
SUMMARY:Petersburg WV Trip - Work weekend
DESCRIPTION:We have access to 860 acres on a mountain. \nThere are bulldozed access trails to get around the mountain and lots and lots of opportunities for more trails. Richie has been busy on the bulldozer since we were last there and has opened new areas to explore to flag and clear trails. \n  \nThis is a Working and wheeling weekend so be prepared to stop and walk and clear some new trails. Bring tools for a work day as well as gloves and sturdy boots. We will explore the new and established trails when we have had enough working. \nLarge and small rocks for all levels of Jeeps.
URL:https://hrja.org/wp/event/tentative-petersburg-wv-trip-work-weekend/
END:VEVENT
BEGIN:VEVENT
DTSTART;TZID=America/New_York:20240428T150000
DTEND;TZID=America/New_York:20240428T183000
DTSTAMP:20260424T115047
CREATED:20240110T124125Z
LAST-MODIFIED:20240110T124125Z
UID:4539-1714316400-1714329000@hrja.org
SUMMARY:Membership Meeting
DESCRIPTION:Arrive anytime after 3 PM. Meeting in the Educational building attached to and behind the main Church Building. \nThe meeting will start at the regular time 4:30
URL:https://hrja.org/wp/event/membership-meeting-8/
LOCATION:St. John’s Burry’s Church\, 1835 Rt. 68\, Rochester\, PA\, 15074\, United States
END:VEVENT
BEGIN:VEVENT
DTSTART;VALUE=DATE:20240418
DTEND;VALUE=DATE:20240421
DTSTAMP:20260424T115047
CREATED:20240110T124802Z
LAST-MODIFIED:20240110T124802Z
UID:4549-1713398400-1713657599@hrja.org
SUMMARY:Greenbriar WV Trip
DESCRIPTION:HRJA will be venturing down to the Greenbrier area of West Virginia for a weekend of trail riding.  Check your email or our FB group for details
URL:https://hrja.org/wp/event/greenbriar-wv-trip/
END:VEVENT
BEGIN:VEVENT
DTSTART;TZID=America/New_York:20240413T080000
DTEND;TZID=America/New_York:20240413T170000
DTSTAMP:20260424T115047
CREATED:20240113T144759Z
LAST-MODIFIED:20240113T144759Z
UID:4581-1712995200-1713027600@hrja.org
SUMMARY:Work day at the Aleppo PA property
DESCRIPTION:Details to be sent via email and posted to the Facebook group
URL:https://hrja.org/wp/event/work-day-at-the-aleppo-pa-property/
END:VEVENT
BEGIN:VEVENT
DTSTART;TZID=America/New_York:20240407T080000
DTEND;TZID=America/New_York:20240407T170000
DTSTAMP:20260424T115047
CREATED:20240110T124550Z
LAST-MODIFIED:20240110T124550Z
UID:4547-1712476800-1712509200@hrja.org
SUMMARY:Meet & Greet: Jeep Paint & Sip event
DESCRIPTION:Details to be posted when we get closer to the event.  Will likely be paired with a local trail ride in the morning and painting in the afternoon
URL:https://hrja.org/wp/event/meet-greet-jeep-paint-sip-event-2/
LOCATION:Bootlebrush Gallery\, 539 Main Street\, Harmony\, PA\, 16037\, United States
END:VEVENT
BEGIN:VEVENT
DTSTART;TZID=America/New_York:20240324T080000
DTEND;TZID=America/New_York:20240324T170000
DTSTAMP:20260424T115047
CREATED:20240113T144602Z
LAST-MODIFIED:20240113T144602Z
UID:4577-1711267200-1711299600@hrja.org
SUMMARY:BFR Ride
DESCRIPTION:Ben Franklin Range events are run by Stiller Motorsports.  Posted here as an FYI.  We will not be attending all of the BFR events as a club.  Look for more details on which events we will be attending as a club
URL:https://hrja.org/wp/event/bfr-ride-3/
LOCATION:Ben Franklin Range\, 1130 Ridge Rd\, Templeton\, PA\, 16259\, United States
END:VEVENT
BEGIN:VEVENT
DTSTART;TZID=America/New_York:20240323T080000
DTEND;TZID=America/New_York:20240323T170000
DTSTAMP:20260424T115047
CREATED:20240113T144657Z
LAST-MODIFIED:20240113T144657Z
UID:4579-1711180800-1711213200@hrja.org
SUMMARY:Trail work day at the Bobtown PA property
DESCRIPTION:Details to be sent via email and posted on the Facebook group
URL:https://hrja.org/wp/event/trail-work-day-at-the-bobtown-pa-property/
END:VEVENT
BEGIN:VEVENT
DTSTART;TZID=America/New_York:20240303T150000
DTEND;TZID=America/New_York:20240303T183000
DTSTAMP:20260424T115047
CREATED:20240110T124046Z
LAST-MODIFIED:20240110T124046Z
UID:4537-1709478000-1709490600@hrja.org
SUMMARY:Membership Meeting
DESCRIPTION:Arrive anytime after 3 PM. Meeting in the Educational building attached to and behind the main Church Building. \nThe meeting will start at the regular time 4:30
URL:https://hrja.org/wp/event/membership-meeting-7/
LOCATION:St. John’s Burry’s Church\, 1835 Rt. 68\, Rochester\, PA\, 15074\, United States
END:VEVENT
BEGIN:VEVENT
DTSTART;TZID=America/New_York:20240302T080000
DTEND;TZID=America/New_York:20240302T170000
DTSTAMP:20260424T115047
CREATED:20240113T144521Z
LAST-MODIFIED:20240229T131802Z
UID:4575-1709366400-1709398800@hrja.org
SUMMARY:CANCELLED: Trail work day at Harmony property
DESCRIPTION:THIS EVENT HAS BEEN CANCELLED DUE TO ALL THE RAIN.  STAY TUNED FOR A RESCHEDULED DATE \nDetails to be sent via email an posted on the Facebook group
URL:https://hrja.org/wp/event/trail-work-day-at-harmony-property/
END:VEVENT
BEGIN:VEVENT
DTSTART;TZID=America/New_York:20240225T080000
DTEND;TZID=America/New_York:20240225T170000
DTSTAMP:20260424T115047
CREATED:20240113T144336Z
LAST-MODIFIED:20240113T144336Z
UID:4573-1708848000-1708880400@hrja.org
SUMMARY:BFR Ride
DESCRIPTION:Ben Franklin Range events are run by Stiller Motorsports.  Posted here as an FYI.  We will not be attending all of the BFR events as a club.  Look for more details on which events we will be attending as a club
URL:https://hrja.org/wp/event/bfr-ride-2/
LOCATION:Ben Franklin Range\, 1130 Ridge Rd\, Templeton\, PA\, 16259\, United States
END:VEVENT
END:VCALENDAR